﻿BEGIN:VCALENDAR
VERSION:2.0
PRODID:-//Sistema Museale di Ateneo - ECPv6.15.20//NONSGML v1.0//EN
CALSCALE:GREGORIAN
METHOD:PUBLISH
X-WR-CALNAME:Sistema Museale di Ateneo
X-ORIGINAL-URL:http://www.sma.unipr.it/en/
X-WR-CALDESC:Events for Sistema Museale di Ateneo
REFRESH-INTERVAL;VALUE=DURATION:PT1H
X-Robots-Tag:noindex
X-PUBLISHED-TTL:PT1H
BEGIN:VTIMEZONE
TZID:Europe/Rome
BEGIN:DAYLIGHT
TZOFFSETFROM:+0100
TZOFFSETTO:+0200
TZNAME:CEST
DTSTART:20240331T010000
END:DAYLIGHT
BEGIN:STANDARD
TZOFFSETFROM:+0200
TZOFFSETTO:+0100
TZNAME:CET
DTSTART:20241027T010000
END:STANDARD
BEGIN:DAYLIGHT
TZOFFSETFROM:+0100
TZOFFSETTO:+0200
TZNAME:CEST
DTSTART:20250330T010000
END:DAYLIGHT
BEGIN:STANDARD
TZOFFSETFROM:+0200
TZOFFSETTO:+0100
TZNAME:CET
DTSTART:20251026T010000
END:STANDARD
BEGIN:DAYLIGHT
TZOFFSETFROM:+0100
TZOFFSETTO:+0200
TZNAME:CEST
DTSTART:20260329T010000
END:DAYLIGHT
BEGIN:STANDARD
TZOFFSETFROM:+0200
TZOFFSETTO:+0100
TZNAME:CET
DTSTART:20261025T010000
END:STANDARD
END:VTIMEZONE
BEGIN:VEVENT
DTSTART;TZID=Europe/Rome:20250605T000000
DTEND;TZID=Europe/Rome:20250613T235900
DTSTAMP:20260419T163100
CREATED:20250609T080021Z
LAST-MODIFIED:20250609T080021Z
UID:41662-1749081600-1749859140@www.sma.unipr.it
SUMMARY:Until 13 June ILIADE#1 CAVALLI by Lenz Foundation at the Veterinary Collection
DESCRIPTION:From Thursday 5 June at 21. 00\, in replication until 13 June\, the spaces of the Veterinary Anatomy Collection of the University of Parma (via del Taglio 8) will host the debut of ILIADE#1 CAVALLI\, the new site-specific performative composition by Maria Federica Maestri and Francesco Pititto\, the first chapter of the anatomical/dramaturgical work on Homer’s Iliad and the central nucleus of the Atlas on Violence\, the artistic project that over the next three years will engage Lenz Fondazione in a reflection on the structures that define the suffering of the human and non-human animal in an analysis of impiety\, the destructive act\, the hero and war. \nPerformed by Tiziana Cappella\, Aldo Rendina\, Sandra Soncini\, Carlotta Spaggiari\, with music by Andrea Azzali\, the site-specific composition will be articulated in three different spaces of the museum\, whose origins date back to 1845\, together with the birth of the Veterinary School\, in which 694 anatomical\, normal and teratological preparations produced in the 19th and 20th centuries are preserved. \nThe artistic direction communicates that no harm was done to animals in the realisation of the performance\, and the work aesthetically expresses the desire to restore dignity to all living things. \nThe creation was realised with the support and collaboration of the University of Parma – Department of Humanities\, Social Sciences and Cultural Enterprises; Department of Veterinary Medical Sciences; University Museum System; MuDes Museo Diffuso delle Scienze – ‘Alessio Lemoigne’ Collection of Veterinary Anatomy of the Department of Veterinary Medical Sciences. \nThe project Atlas on Violence_Anatomies of the Landscape is supported by: Ministry of Culture\, Emilia-Romagna Region\, Municipality of Parma\, Ausl di Parma\, Cariparma Foundation\, Chiesi Farmaceutici. \nNotice to the public:\nSome scenes of the performance may have a strong emotional impact and may shock the sensitivity of the spectator. The performance is itinerant on several floors. A lift will be available for people with mobility difficulties. Due to the limited number of seats\, booking is compulsory. \n  \nILIADE#1 CAVALLI  \nDramaturgy\, imagoturgy Francesco Pititto\nComposition\, installation\, enclosures Maria Federica Maestri\nPerformers Tiziana Cappella\, Sandra Soncini\, Carlotta Spaggiari\, Aldo Rendina\nMusic Andrea Azzali\nProject care Elena Sorbi\nOrganisation Ilaria Stocchi\nLighting design Alice Scartapacchio\nProduction Giulia Mangini\nGraphic design and dissemination Alessandro Conti\nCommunication and press office Giovanna Pavesi \nFor information on performances and bookings\, contact Lenz Fondazione on 0521-270141 and 335 6096220 (also via WhatsApp) and info@lenzfondazione.it \npress release Lenz Fondazione
URL:http://www.sma.unipr.it/en/event/until-13-june-iliade1-cavalli-by-lenz-foundation-at-the-veterinary-collection/
LOCATION:Museo Anatomico Veterinario “A. Lemoigne”\, Via del Taglio\, 10\, Parma\, 43126\, Italia
CATEGORIES:News,Theatrical performance
ATTACH;FMTTYPE=image/jpeg:http://www.sma.unipr.it/wp-content/uploads/2025/05/PegasoDomenicoFiorentino-Lenz-8.jpg
END:VEVENT
END:VCALENDAR