﻿BEGIN:VCALENDAR
VERSION:2.0
PRODID:-//Sistema Museale di Ateneo - ECPv6.15.20//NONSGML v1.0//EN
CALSCALE:GREGORIAN
METHOD:PUBLISH
X-WR-CALNAME:Sistema Museale di Ateneo
X-ORIGINAL-URL:http://www.sma.unipr.it/it/
X-WR-CALDESC:Eventi per Sistema Museale di Ateneo
REFRESH-INTERVAL;VALUE=DURATION:PT1H
X-Robots-Tag:noindex
X-PUBLISHED-TTL:PT1H
BEGIN:VTIMEZONE
TZID:Europe/Rome
BEGIN:DAYLIGHT
TZOFFSETFROM:+0100
TZOFFSETTO:+0200
TZNAME:CEST
DTSTART:20200329T010000
END:DAYLIGHT
BEGIN:STANDARD
TZOFFSETFROM:+0200
TZOFFSETTO:+0100
TZNAME:CET
DTSTART:20201025T010000
END:STANDARD
BEGIN:DAYLIGHT
TZOFFSETFROM:+0100
TZOFFSETTO:+0200
TZNAME:CEST
DTSTART:20210328T010000
END:DAYLIGHT
BEGIN:STANDARD
TZOFFSETFROM:+0200
TZOFFSETTO:+0100
TZNAME:CET
DTSTART:20211031T010000
END:STANDARD
BEGIN:DAYLIGHT
TZOFFSETFROM:+0100
TZOFFSETTO:+0200
TZNAME:CEST
DTSTART:20220327T010000
END:DAYLIGHT
BEGIN:STANDARD
TZOFFSETFROM:+0200
TZOFFSETTO:+0100
TZNAME:CET
DTSTART:20221030T010000
END:STANDARD
END:VTIMEZONE
BEGIN:VEVENT
DTSTART;TZID=Europe/Rome:20211012T080000
DTEND;TZID=Europe/Rome:20211017T190000
DTSTAMP:20260420T174421
CREATED:20211012T075328Z
LAST-MODIFIED:20211012T120246Z
UID:19116-1634025600-1634497200@www.sma.unipr.it
SUMMARY:Sabato 16 e domenica 17 ottobre tornano le Giornate FAI e I like Parma
DESCRIPTION:Tornano le Giornate del FAI d’autunno e I like Parma! \nSabato 16 e domenica 17 ottobre un fine settimana speciale nella capitale italiana della cultura. \nAnche i Musei dell’Ateneo partecipano con alcune iniziative. \nOrto Botanico:\nStrada Farini\, 90\nSabato 16: dalle 9.30 alle 17.30 (ultima visita ore 17)\nDomenica 17: dalle 9.30 alle 13 (ultima visita ore 12.30)\nTurni di visita ogni 30 minuti – Gruppi di 15 persone\nVisite a cura degli Apprendisti Ciceroni dell’ I.S.I.S.S. Pietro Giordani \nPrenotazione obbligatoria: APP Parma 2020+21 \nMuseo di Storia Naturale – Sala Bottego\nPalazzo centrale dell’Università – Via Università 12\nSabato 16 e domenica 17\nVisite ogni 60 minuti orari: 10—12 e 14.30—16.30\nDurata: 1 ora\nGruppi di 15 persone \nPrenotazione obbligatoria: FAI—Fondo Ambiente Italiano\nDonazione libera con offerta minima di 3€ \nPer maggiori informazioni guarda il programma di I Like Parma e il programma delle Giornate FAI d’autunno
URL:http://www.sma.unipr.it/it/event/sabato-16-e-domenica-17-ottobre-tornano-le-giornate-del-fai-e-i-like-parma/
CATEGORIES:Museo di Storiogafia Naturalistica,News,Orto Botanico,tutti
ATTACH;FMTTYPE=image/jpeg:http://www.sma.unipr.it/wp-content/uploads/2021/10/I-like-Parma-immagine-in-evidenza-1_compressed.jpg
END:VEVENT
END:VCALENDAR