﻿BEGIN:VCALENDAR
VERSION:2.0
PRODID:-//Sistema Museale di Ateneo - ECPv6.15.20//NONSGML v1.0//EN
CALSCALE:GREGORIAN
METHOD:PUBLISH
X-WR-CALNAME:Sistema Museale di Ateneo
X-ORIGINAL-URL:http://www.sma.unipr.it/it/
X-WR-CALDESC:Eventi per Sistema Museale di Ateneo
REFRESH-INTERVAL;VALUE=DURATION:PT1H
X-Robots-Tag:noindex
X-PUBLISHED-TTL:PT1H
BEGIN:VTIMEZONE
TZID:Europe/Rome
BEGIN:DAYLIGHT
TZOFFSETFROM:+0100
TZOFFSETTO:+0200
TZNAME:CEST
DTSTART:20160327T010000
END:DAYLIGHT
BEGIN:STANDARD
TZOFFSETFROM:+0200
TZOFFSETTO:+0100
TZNAME:CET
DTSTART:20161030T010000
END:STANDARD
BEGIN:DAYLIGHT
TZOFFSETFROM:+0100
TZOFFSETTO:+0200
TZNAME:CEST
DTSTART:20170326T010000
END:DAYLIGHT
BEGIN:STANDARD
TZOFFSETFROM:+0200
TZOFFSETTO:+0100
TZNAME:CET
DTSTART:20171029T010000
END:STANDARD
BEGIN:DAYLIGHT
TZOFFSETFROM:+0100
TZOFFSETTO:+0200
TZNAME:CEST
DTSTART:20180325T010000
END:DAYLIGHT
BEGIN:STANDARD
TZOFFSETFROM:+0200
TZOFFSETTO:+0100
TZNAME:CET
DTSTART:20181028T010000
END:STANDARD
END:VTIMEZONE
BEGIN:VEVENT
DTSTART;TZID=Europe/Rome:20171014T080000
DTEND;TZID=Europe/Rome:20171217T170000
DTSTAMP:20260420T175132
CREATED:20210201T105914Z
LAST-MODIFIED:20210212T093317Z
UID:14208-1507968000-1513530000@www.sma.unipr.it
SUMMARY:La Fabrica dei corpi. Dall’anatomia alla robotica
DESCRIPTION:La conoscenza della struttura dei corpi viventi\, in particolare quella del corpo umano\, sta a fondamento di alcune tra le maggiori conquiste biomediche realizzatesi tra la fine del XX secolo e l’inizio di questo XXI secolo. Essa promette di divenire sempre più una guida insostituibile per la ricerca traslazionale volta allo sviluppo delle biotecnologie per la rigenerazione dei tessuti\, degli organi e per la loro ingegnerizzazione bioartificiale. A partire dall’evidenza di memoria Darwiniana che\, nei Vertebrati\, il raggiungimento di una specifica forma è condizione necessaria per assicurare una prestazione fisiologica adeguata alla massa cellulare tridimensionale (3D)\, oggi siamo giunti alla consapevolezza che persino la capacità di un organismo di evolversi\, ossia di sapere fare fronte alle sfide della realtà mutevole in cui vive\, dipende dai meccanismi embrionali che ne permettono la trasformazione morfologica. \nDa questi presupposti culturali sono partite le sfide tecnologiche che hanno portato\, nelle scienze biomediche\, alla realizzazione dei materiali biocompatibili e al loro impiego in numerosi campi ricostruttivi clinici e preclinici\, incluso quello artistico del restauro ceroplastico anatomico\, sino alle bioprotesi con biomateriali\, agli organi bioartificiali 3D con cellule staminali e ai robot umanoidi\, le cui innovazioni mirano a renderli supporto operativo alla tutela della salute umana\, con l’ambizioso obiettivo di un loro impiego al fianco dell’Uomo nella conquista dello spazio. \nIn questo ampio contesto interdisciplinare si colloca l’evento a carattere internazionale “La Fabrica dei Corpi. Dall’anatomia alla robotica”\, esposizione storica\, scientifica e divulgativa che avrà luogo presso il Palazzo del Governatore di Parma quale parte integrante sia delle iniziative del Comune di Parma per le celebrazioni dei 2200 anni di fondazione della città di Parma sia di quelle promosse dall’Università di Parma per l’internazionalizzazione dell’Ateneo nell’anno accademico 2017-2018 . \nPer maggiori informazioni clicca qui
URL:http://www.sma.unipr.it/it/event/la-fabrica-dei-corpi-dallanatomia-alla-robotica-2/
LOCATION:Palazzo del Governatore\, Piazza Garibaldi\, Parma\, PR\, 43121\, Italia
CATEGORIES:conferenze,laboratori,mostre,Palazzo del Governatore
ATTACH;FMTTYPE=image/jpeg:http://www.sma.unipr.it/wp-content/uploads/2021/02/COPERTINA-FB-1.jpg
END:VEVENT
END:VCALENDAR